BEGIN:VCALENDAR
METHOD:PUBLISH
VERSION:2.0
PRODID:-//WoltLab GmbH//WoltLab Suite Calendar 2.0//EN
CALSCALE:GREGORIAN
X-WR-CALNAME;VALUE=TEXT:Nordrhein-Westfalen
BEGIN:VEVENT
TRANSP:OPAQUE
UID:event-65@www.betreuteszocken.de
URL:https://www.betreuteszocken.de/calendar/event/982-gourmet-tempel-reckli
 nghausen/
DTSTART:20201106T163000Z
DTSTAMP:20201106T163000Z
CREATED:20201106T163000Z
SUMMARY:Gourmet Tempel Recklinghausen
DESCRIPTION:06.11.2020 ab 17:30 Uhr Gourmet Tempel Recklinghausen [URL:http
 s://www.betreuteszocken.de/forum/thread/29131-22-02-2020-ab-16-uhr-outback-
 lindlar/?pageNo=16]\n\nRestaurant Gourmet Tempel \nChinesisch - Mongolisch 
 - Japanisch \nRottstraße 6 | 45659 Recklinghausen\n(ehemaliger EDEKA in Hoc
 hlar)\n\n\n\nParkmöglichkeiten in der Tiefgarage\nFür alle die dabei sind\,
  hier einmal  - Ich gehe davon aus das jeder diesen Zettel ausfüllen muss!
LOCATION:Recklinghausen, Gourmet Tempel
DTEND:20201106T213000Z
END:VEVENT
BEGIN:VEVENT
TRANSP:OPAQUE
UID:event-76@www.betreuteszocken.de
URL:https://www.betreuteszocken.de/calendar/event/993-weihnachtsmarkt-west-
 hattingen/
DTSTART:20211205T130000Z
DTSTAMP:20211205T130000Z
CREATED:20211205T130000Z
SUMMARY:Weihnachtsmarkt West, Hattingen
DESCRIPTION:RE: Weihnachtsmarkt West\, Hattingen am 05.12.2021 ab 14:00 Uhr
  [URL:https://www.betreuteszocken.de/forum/thread/8709-weihnachtsmarkt-west
 -hattingen-am-05-12-2021-ab-14-00-uhr/?postID=543304#post543304]
LOCATION:Hattingen Kirchplatz
DTEND:20211205T180000Z
END:VEVENT
BEGIN:VEVENT
TRANSP:OPAQUE
UID:event-77@www.betreuteszocken.de
URL:https://www.betreuteszocken.de/calendar/event/994-weihnachtsmarkt-west-
 hattingen/
DTSTART:20211205T130000Z
DTSTAMP:20211205T130000Z
CREATED:20211205T130000Z
SUMMARY:Weihnachtsmarkt West, Hattingen
DESCRIPTION:RE: Weihnachtsmarkt West\, Hattingen am 05.12.2021 ab 14:00 Uhr
  [URL:https://www.betreuteszocken.de/forum/thread/8709-weihnachtsmarkt-west
 -hattingen-am-05-12-2021-ab-14-00-uhr/?postID=543304#post543304]
LOCATION:Hattingen Kirchplatz
DTEND:20211205T180000Z
END:VEVENT
BEGIN:VEVENT
TRANSP:OPAQUE
UID:event-81@www.betreuteszocken.de
URL:https://www.betreuteszocken.de/calendar/event/998-roadstop-mettman-nean
 dertal-11-04-2022/
DTSTART:20220411T160000Z
DTSTAMP:20220411T160000Z
CREATED:20220411T160000Z
SUMMARY:RoadStop Mettman/Neandertal - 11.04.2022
DESCRIPTION:RoadStop Mettman/Neandertal - 11.04.2022 - Seite 22 - Treffpunk
 t - BetreutesZocken [URL:https://www.betreuteszocken.de/forum/thread/29131-
 roadstop-mettman-neandertal-11-04-2022/?postID=548026#post548026]
LOCATION:RoadStop Mettmann
DTEND:20220411T190000Z
END:VEVENT
BEGIN:VEVENT
TRANSP:OPAQUE
UID:event-83@www.betreuteszocken.de
URL:https://www.betreuteszocken.de/calendar/event/1000-roadstop-mettman-nea
 ndertal-03-07-2022/
DTSTART:20220703T110000Z
DTSTAMP:20220703T110000Z
CREATED:20220703T110000Z
SUMMARY:RoadStop Mettman/Neandertal - 03.07.2022
DESCRIPTION:RoadStop Mettman/Neandertal - 03.07.2022 - Seite 22 - Treffpunk
 t - BetreutesZocken [URL:https://www.betreuteszocken.de/forum/thread/29131-
 roadstop-mettman-neandertal-03-07-2022/?postID=551001#post551001]
LOCATION:RoadStop Mettmann
DTEND:20220703T130000Z
END:VEVENT
END:VCALENDAR
