BEGIN:VCALENDAR
METHOD:PUBLISH
VERSION:2.0
PRODID:-//WoltLab GmbH//WoltLab Suite Calendar 2.0//EN
CALSCALE:GREGORIAN
X-WR-CALNAME;VALUE=TEXT:BZ Treffen
BEGIN:VEVENT
TRANSP:OPAQUE
UID:event-82@www.betreuteszocken.de
URL:https://www.betreuteszocken.de/calendar/event/999-bergkirchweih-erlange
 n-berch/
DTSTART:20220602T160000Z
DTSTAMP:20220602T160000Z
CREATED:20220602T160000Z
SUMMARY:Bergkirchweih Erlangen (Berch)
DESCRIPTION:https://www.erlangen.info/bergkirchweih_erlangen/
LOCATION:Bergstraße 21-11, 91054 Erlangen
DTEND:20220613T210000Z
END:VEVENT
END:VCALENDAR
