BEGIN:VCALENDAR
METHOD:PUBLISH
VERSION:2.0
PRODID:-//WoltLab GmbH//WoltLab Suite Calendar 2.0//EN
CALSCALE:GREGORIAN
X-WR-CALNAME;VALUE=TEXT:(Mittel)Hessen
BEGIN:VEVENT
TRANSP:OPAQUE
UID:event-52@www.betreuteszocken.de
URL:https://www.betreuteszocken.de/calendar/event/711-treffen-in-mittel-hes
 sen/
DTSTART:20180526T110000Z
DTSTAMP:20180526T110000Z
CREATED:20180526T110000Z
SUMMARY:Treffen in (Mittel)Hessen
DESCRIPTION:Treffen in (Mittel)Hessen ? (2018: am 26.05. in Gießen!) [URL:h
 ttp://betreuteszocken.de/index.php?thread/13208-treffen-in-mittel-hessen-20
 18-am-26-05-in-gie%C3%9Fen/]
DTEND:20180526T200000Z
END:VEVENT
END:VCALENDAR
