BEGIN:VCALENDAR
METHOD:PUBLISH
VERSION:2.0
PRODID:-//WoltLab GmbH//WoltLab Suite Calendar 2.0//EN
CALSCALE:GREGORIAN
X-WR-CALNAME;VALUE=TEXT:Hamburg
BEGIN:VEVENT
TRANSP:TRANSPARENT
UID:event-28@www.betreuteszocken.de
URL:https://www.betreuteszocken.de/calendar/event/62-bz-treffen-hh/
DTSTART;VALUE=DATE:20151121
DTSTAMP:20151121T000000Z
CREATED:20151121T000000Z
SUMMARY:[BZ] - Treffen HH
DESCRIPTION:Hamburg im Frühling [URL:http://betreuteszocken.de/index.php/Th
 read/28089-Hamburg-im-Fr%C3%BChling/?pageNo=5]
LOCATION:Kurze Mühren 13, 20095 Hamburg, Deutschland
GEO:53.5534401;10.0031672
DTEND;VALUE=DATE:20151122
END:VEVENT
BEGIN:VEVENT
TRANSP:TRANSPARENT
UID:event-51@www.betreuteszocken.de
URL:https://www.betreuteszocken.de/calendar/event/710-esl-fr%C3%BChlingsmei
 sterschaft-2018/
DTSTART;VALUE=DATE:20180407
DTSTAMP:20180407T000000Z
CREATED:20180407T000000Z
SUMMARY:ESL Frühlingsmeisterschaft 2018
DESCRIPTION:Beschreibung\nDudududu-Düsseldorf! Vom 07. - 08. April wird die
  Landeshauptstadt Nordrhein-Westfalens zum ersten Mal Spielplatz der ESL Fr
 ühlingsmeisterschaft 2018\, wenn sich hier die besten deutschen Pros in Lea
 gue of Legends\, FIFA18 und Counter-Strike: Global Offensive vor dem allerb
 esten Publikum der Welt im CASTELLO Düsseldorf messen und um ein Gesampreis
 geld von 62\,000€ spielen!\n\nAlso\, sichere Dir jetzt Dein Ticket für die 
 ESL Frühlingsmeisterschaft 2018 und komm zum größten E-Sports Community-Tre
 ffen in Deutschland! Wir freuen uns schon jetzt auf alte Bekannte - Trommle
 r\, wir meinen unteranderem Dich - und zahlreiche neue Gesichter\, die mit 
 uns die erste Saison des Jahres auf den großen Finalspielen in Düsseldorf a
 usklingen lassen.\nSamstag\, 07. April 2018:\nLeague of Legends \n09:30 Uhr
  - Einlass ins CASTELLO Düsseldorf\n10:00 Uhr - Halbfinale #1 (Bo3)\n13:30 
 Uhr - Halbfinale #2 (Bo3)\n17:30 Uhr - Showmatch powerd by Wüstenrot\n18:30
  Uhr - Großes Finale (Bo3)\nEA FIFA18\nab 14:00 Uhr - Halbfinale #1 und #2 
 Partner Area (Bo3)\nca.21:30 Uhr - Großes Finale auf der Bühne (Bo5)\nSonnt
 ag\, 08. April 2018:\nCounter-Strike: Global Offensive\n09:30 Uhr - Einlass
  ins CASTELLO Düsseldorf\n10:00 Uhr - Halbfinale #1 (Bo3)\n13:30 Uhr - Halb
 finale #2 (Bo3)\n17:30 Uhr - Showmatch\n19:00 Uhr - Großes Finale (Bo3)\nVo
 r Ort gibt es neben den spannenden Live-Matches auf der großen Bühne auch z
 ahlreiche Nebenaktivitäten wie Einkaufsmöglichkeiten bei Partnershops und G
 ewinnspiele bei Sponsoren zu entdecken - und dem einen oder anderen Profisp
 ieler und YouTuber wird man garantiert auch über den Weg laufen! Zudem habe
 n wir für Euch an beiden Tagen jeweils ein spannendes Showmatch vorbereitet
 \, was defenitiv für spaßige Szenen sorgen wird.\nBitte beachtet auch\, das
 s die Mitnahme von jeglichen Spiegelreflexkameras (DSLR) und hochauflösende
 n Videokameras leider nicht gestattet ist.\n\n**** Infos zur Alterbeschränk
 ung: Nach deutscher Gesetzgebung und der USK-16-Einstufung von Counter-Stri
 ke: Global Offensive werden nur Besucher ab 16 Jahren am Sonntag\, den 08. 
 April in die Arena gelassen. Selbst mit elterlicher Zustimmung oder einer B
 egleitperson erhalten Jugendliche unter 16 Jahren keinen Zugang. Für League
  of Legends am Samstag\, den 07. April ist ein Mindestalter von 12 Jahren e
 rforderlich. All unseren jüngeren Besuchern empfehlen wir einfach mit der g
 anzen Familie zu kommen. ****\n\nQUELLE: ESL Frühlingsmeisterschaft 2018 [U
 RL:http://pro.eslgaming.com/deutschland/fruhling-2018/csgo/]
DTEND;VALUE=DATE:20180409
END:VEVENT
END:VCALENDAR
